BEGIN:VCALENDAR
VERSION:2.0
PRODID:-//wp-events-plugin.com//7.2.3.1//EN
TZID:Europe/Berlin
X-WR-TIMEZONE:Europe/Berlin
BEGIN:VEVENT
UID:1@fuessener-festtage-alter-musik.de
DTSTART;TZID=Europe/Berlin:20230607T103000
DTEND;TZID=Europe/Berlin:20230607T111500
DTSTAMP:20250418T041040Z
URL:https://fuessener-festtage-alter-musik.de/events/ffam-2023-nr-1-willko
 mmensgruss-der-stadtpfeifer/
SUMMARY:FFAM 2023 / Nr. 1 - Willkommensgruß der Stadtpfeifer
DESCRIPTION:Zum Auftakt der ersten Füssener Festtage Alter Musik spielt da
 s Ensemble Concerto dei venti in der Tradition der so genannten Stadtpfeif
 er an prominenten Plätzen der Füssener Altstadt (Stadtbrunnen\, Schranne
 nplatz\, Brotmarkt) einen musikalischen Willkommensgruß.\n\nEintritt: Fre
 i (entfällt bei schlechtem Wetter)\n\nInteressierte sind im Anschluß her
 zlich eingeladen\, die Ensembles der Festtage bei der Festlichen Eröffnun
 g im Museum der Stadt Füssen (ehem. Benediktinerkloster St. Mang\, Eingan
 g Lechhalde 3) kennen zu lernen (s. FFAM 2023 / Nr. 2 - Festliche Eröffnu
 ng).
ATTACH;FMTTYPE=image/jpeg:https://fuessener-festtage-alter-musik.de/wp-con
 tent/uploads/2024/01/Hohes_Schloss-scaled.jpg
CATEGORIES:2023
LOCATION:Füssen Altstadt\, Stadtbrunnen/Reichenstraße\, Schrannenplatz\, 
 Brotmarkt\, Füssen\, Bayern\, 87629\, Allgäu\, Deutschland
X-APPLE-STRUCTURED-LOCATION;VALUE=URI;X-ADDRESS=Stadtbrunnen/Reichenstraße
 \, Schrannenplatz\, Brotmarkt\, Füssen\, Bayern\, 87629\, Allgäu\, Deuts
 chland;X-APPLE-RADIUS=100;X-TITLE=Füssen Altstadt:geo:0,0
END:VEVENT
BEGIN:VTIMEZONE
TZID:Europe/Berlin
X-LIC-LOCATION:Europe/Berlin
BEGIN:DAYLIGHT
DTSTART:20230326T030000
TZOFFSETFROM:+0100
TZOFFSETTO:+0200
TZNAME:CEST
END:DAYLIGHT
END:VTIMEZONE
END:VCALENDAR