BEGIN:VCALENDAR
VERSION:2.0
PRODID:-//wp-events-plugin.com//7.2.3.1//EN
TZID:Europe/Berlin
X-WR-TIMEZONE:Europe/Berlin
BEGIN:VEVENT
UID:64@fuessener-festtage-alter-musik.de
DTSTART;TZID=Europe/Berlin:20250627T160000
DTEND;TZID=Europe/Berlin:20250627T173000
DTSTAMP:20250615T092441Z
URL:https://fuessener-festtage-alter-musik.de/events/ffam25_250627_1600h_m
 uentzer-gerechtigkeit/
SUMMARY:"Wenn die Welt sich ungerecht anfühlt“ - Thomas Müntzer: Gerech
 tigkeit
DESCRIPTION:Musik und Geschichten aus Alter Zeit\nEin altes Kornkissen erz
 ählt aus seinem Leben von vor 500 Jahren: Von dem Bauernkind\, das späta
 bends mit ihm spricht und schon bald von seinem anstrengenden Tag auf dem 
 Feld in einen tiefen Schlaf fällt\; seinen Träumen von\nLautenmusik und 
 Flötenklang in einem Schloss. Es erzählt auch von den Tieren auf dem Hof
  oder von den Großeltern\, die in der Stube Musik machen\; den Eltern\, d
 ie in den Mai tanzen oder der Schwester\, die so schön singen kann. Aber 
 das Kornkissen erzählt auch von seinem entbehrungsreichen Leben und seine
 m Wunsch\, dass es allen Kindern gut gehen soll.\n\nKonzert für Kinder vo
 n 5 bis 8 Jahren und Erwachsene mit Musik von vor 500 Jahren entwickelt un
 d erzählt von\nJohanna Bastian\n\n&nbsp\;\nEnsemble astrophil &amp\; stel
 la\nCharlotte Nachtsheim\, Sopran\, Triangel\nGuilherme Barroso\, Laute\nP
 hilipp Lamprecht\,\nGesang\, Strohfiedel (ein altes Xylophon)\, Hackbrett\
 , Trommeln\nJohanna Bartz\, Renaissance- und Knochenflöten\n\nFranziskane
 rkloster St. Stephan\n\nKinder\, Jugendliche und Erwachsene 5€ - freie P
 latzwahl\n\nMehr Info unter 08362-9299325
ATTACH;FMTTYPE=image/jpeg:https://fuessener-festtage-alter-musik.de/wp-con
 tent/uploads/2024/02/Kloster-St.-Stephan-Fuessen.jpg
CATEGORIES:2025
LOCATION:St. Stephan - Franziskanerkloster\, Franziskanerplatz 1\, Füssen\
 , Bayern\, 87629\, Allgäu\, Deutschland
X-APPLE-STRUCTURED-LOCATION;VALUE=URI;X-ADDRESS=Franziskanerplatz 1\, Füss
 en\, Bayern\, 87629\, Allgäu\, Deutschland;X-APPLE-RADIUS=100;X-TITLE=St.
  Stephan - Franziskanerkloster:geo:0,0
END:VEVENT
BEGIN:VTIMEZONE
TZID:Europe/Berlin
X-LIC-LOCATION:Europe/Berlin
BEGIN:DAYLIGHT
DTSTART:20250330T030000
TZOFFSETFROM:+0100
TZOFFSETTO:+0200
TZNAME:CEST
END:DAYLIGHT
END:VTIMEZONE
END:VCALENDAR